BEGIN:VCALENDAR
VERSION:2.0
PRODID:-//hacksw/handcal//NONSGML v1.0//EN
CALSCALE:GREGORIAN
BEGIN:VEVENT
ORGANIZER;CN=Anthem, Inc.:MAILTO:no-reply@mail.gcs-web.com
DTEND:
UID:b4dab092-57a1-4033-b8ee-bd6520c9a94f
DTSTAMP:1618982683
LOCATION:http://ir.antheminc.com/events/event-details/q3-2021-anthem-inc-earnings-conference-call
DESCRIPTION:Event Details http://ir.antheminc.com/events/event-details/q3-2021-anthem-inc-earnings-conference-call
URL;VALUE=URI:http://ir.antheminc.com/events/event-details/q3-2021-anthem-inc-earnings-conference-call
SUMMARY:Anthem, Inc. - Q3 2021 Anthem, Inc. Earnings Conference Call
DTSTART:20211020T040000Z
END:VEVENT
END:VCALENDAR