BEGIN:VCALENDAR
VERSION:2.0
PRODID:-//hacksw/handcal//NONSGML v1.0//EN
CALSCALE:GREGORIAN
BEGIN:VEVENT
ORGANIZER;CN=Anthem, Inc.:MAILTO:no-reply@mail.gcs-web.com
DTEND:
UID:28394c8b-948c-4a0a-86f1-a488d707c1c2
DTSTAMP:1618982671
LOCATION:http://ir.antheminc.com/events/event-details/q2-2021-anthem-inc-earnings-conference-call
DESCRIPTION:Event Details http://ir.antheminc.com/events/event-details/q2-2021-anthem-inc-earnings-conference-call
URL;VALUE=URI:http://ir.antheminc.com/events/event-details/q2-2021-anthem-inc-earnings-conference-call
SUMMARY:Anthem, Inc. - Q2 2021 Anthem, Inc. Earnings Conference Call
DTSTART:20210721T040000Z
END:VEVENT
END:VCALENDAR